BEGIN:VCALENDAR
VERSION:2.0
PRODID:-//Foobar Corporation//NONSGML Foobar//EN
METHOD:REQUEST
BEGIN:VEVENT
UID:20260314T160000-1611973842-cairolibri.it
DTSTAMP:20260314T160000
DTSTART:20260314T160000
SUMMARY:Alessandro Beloli a Rho (MI)
DESCRIPTION: Dettagli qui: https://www.cairolibri.it/eventi/alessandro-beloli-rho-mi/
END:VEVENT
END:VCALENDAR
