BEGIN:VCALENDAR
VERSION:2.0
PRODID:-//Foobar Corporation//NONSGML Foobar//EN
METHOD:REQUEST
BEGIN:VEVENT
UID:20260419T170000-471543248-cairolibri.it
DTSTAMP:20260419T170000
DTSTART:20260419T170000
SUMMARY:Ornella Tarantola &#8211; Paola De Carolis a Brescia
DESCRIPTION: Dettagli qui: https://www.cairolibri.it/eventi/ornella-tarantola-paola-de-carolis-brescia/
END:VEVENT
END:VCALENDAR
